Workbook

Sheet GERAL
B2: Estatística Mensal | H2: Estatística Mensal
B3: 1º Semestre | E3: =SUM(E5:E10) -> 0 | H3: 2º Semestre | K3: =SUM(K5:K10) -> 0
C4: Entradas | D4: Gastos | E4: Geral | I4: Entradas | J4: Gastos | K4: Geral
B5: Janeiro | C5: =Janeiro!D6 -> 0 | D5: =Janeiro!E6 -> 0 | E5: =C5-D5 -> 0 | H5: Julho | I5: =Julho!D6 -> 0 | J5: =Julho!E6 -> 0 | K5: =I5-J5 -> 0
B6: Fevereiro | C6: =Fevereiro!D6 -> 0 | D6: =Fevereiro!E6 -> 0 | E6: =C6-D6 -> 0 | H6: Agosto | I6: =Agosto!D6 -> 0 | J6: =Agosto!E6 -> 0 | K6: =I6-J6 -> 0
B7: Março | C7: =Março!D6 -> 0 | D7: =Março!E6 -> 0 | E7: =C7-D7 -> 0 | H7: Setembro | I7: =Setembro!D6 -> 0 | J7: =Setembro!E6 -> 0 | K7: =I7-J7 -> 0
B8: Abril | C8: =Abril!D6 -> 0 | D8: =Abril!E6 -> 0 | E8: =C8-D8 -> 0 | H8: Outubro | I8: =Outubro!D6 -> 0 | J8: =Outubro!E6 -> 0 | K8: =I8-J8 -> 0
B9: Maio | C9: =Maio!D6 -> 0 | D9: =Maio!E6 -> 0 | E9: =C9-D9 -> 0 | H9: Novembro | I9: =Novembro!D6 -> 0 | J9: =Novembro!E6 -> 0 | K9: =I9-J9 -> 0
B10: Junho | C10: =Junho!D6 -> 0 | D10: =Junho!E6 -> 0 | E10: =C10-D10 -> 0 | H10: Dezembro | I10: =Dezembro!D6 -> 0 | J10: =Dezembro!E6 -> 0 | K10: =I10-J10 -> 0
B11: Totais | C11: =SUM(C5:C10) -> 0 | D11: =SUM(D5:D10) -> 0 | E11: =SUM(E5:E10) -> 0 | H11: Totais | I11: =SUM(I5:I10) -> 0 | J11: =SUM(J5:J10) -> 0 | K11: =SUM(K5:K10) -> 0
L20: Desenvolvido By Gnomo Informática
L21: 11 99166.5720
C49: Entradas | D49: Gastos | E49: Geral
B50: Janeiro | C50: =C5 -> 0 | D50: =D5 -> 0 | E50: =C50-D50 -> 0
B51: Fevereiro | C51: =C6 -> 0 | D51: =D6 -> 0 | E51: =C51-D51 -> 0
B52: Março | C52: =C7 -> 0 | D52: =D7 -> 0 | E52: =C52-D52 -> 0
B53: Abril | C53: =C8 -> 0 | D53: =D8 -> 0 | E53: =C53-D53 -> 0
B54: Maio | C54: =C9 -> 0 | D54: =D9 -> 0 | E54: =C54-D54 -> 0
B55: Junho | C55: =C10 -> 0 | D55: =D10 -> 0 | E55: =C55-D55 -> 0
B56: Julho | C56: =I5 -> 0 | D56: =J5 -> 0 | E56: =C56-D56 -> 0
B57: Agosto | C57: =I6 -> 0 | D57: =J6 -> 0 | E57: =C57-D57 -> 0
B58: Setembro | C58: =I7 -> 0 | D58: =J7 -> 0 | E58: =C58-D58 -> 0
B59: Outubro | C59: =I8 -> 0 | D59: =J8 -> 0 | E59: =C59-D59 -> 0
B60: Novembro | C60: =I9 -> 0 | D60: =J9 -> 0 | E60: =C60-D60 -> 0
B61: Dezembro | C61: =I10 -> 0 | D61: =J10 -> 0 | E61: =C61-D61 -> 0

Sheet Janeiro
E1: =IF(E3>0,"Saldo Positivo","Saldo Negativo") -> Saldo Negativo
B3: J A N E I R O | D3: Total | E3: =D6-E6 -> 0
D5: Entrada | E5: Gasto
B6: Data | C6: Descrição | D6: =SUM(D7:D206) -> 0 | E6: =SUM(E7:E206) -> 0
A7: 001 | G7: Desenvolvido By Gnomo Informática
A8: 002 | G8: 11 99166.5720
A9: 003
A10: 004
A11: 005
A12: 006
A13: 007
A14: 008
A15: 009
A16: 010
A17: 011
A18: 012
A19: 013
A20: 014
... A206: 200

Sheet Fevereiro
E1: =IF(E3>0,"Saldo Positivo","Saldo Negativo") -> Saldo Negativo
B3: F E V E R E I R O | D3: Total | E3: =D6-E6 -> 0
D5: Entrada | E5: Gasto
B6: Data | C6: Descrição | D6: =SUM(D7:D206) -> 0 | E6: =SUM(E7:E206) -> 0
A7: 001 | G7: Desenvolvido By Gnomo Informática
A8: 002 | G8: 11 99166.5720
A9: 003
A10: 004
A11: 005
A12: 006
A13: 007
A14: 008
A15: 009
A16: 010
A17: 011
A18: 012
A19: 013
A20: 014
... A206: 200

Sheet Março
E1: =IF(E3>0,"Saldo Positivo","Saldo Negativo") -> Saldo Negativo
B3: M A R Ç O | D3: Total | E3: =D6-E6 -> 0
D5: Entrada | E5: Gasto
B6: Data | C6: Descrição | D6: =SUM(D7:D206) -> 0 | E6: =SUM(E7:E206) -> 0
A7: 001 | G7: Desenvolvido By Gnomo Informática
A8: 002 | G8: 11 99166.5720
A9: 003
A10: 004
A11: 005
A12: 006
A13: 007
A14: 008
A15: 009
A16: 010
A17: 011
A18: 012
A19: 013
A20: 014
... A206: 200

Sheet Abril
E1: =IF(E3>0,"Saldo Positivo","Saldo Negativo") -> Saldo Negativo
B3: A B R I L | D3: Total | E3: =D6-E6 -> 0
D5: Entrada | E5: Gasto
B6: Data | C6: Descrição | D6: =SUM(D7:D206) -> 0 | E6: =SUM(E7:E206) -> 0
A7: 001 | G7: Desenvolvido By Gnomo Informática
A8: 002 | G8: 11 99166.5720
A9: 003
A10: 004
A11: 005
A12: 006
A13: 007
A14: 008
A15: 009
A16: 010
A17: 011
A18: 012
A19: 013
A20: 014
... A206: 200

Sheet Maio
E1: =IF(E3>0,"Saldo Positivo","Saldo Negativo") -> Saldo Negativo
B3: M A I O | D3: Total | E3: =D6-E6 -> 0
D5: Entrada | E5: Gasto
B6: Data | C6: Descrição | D6: =SUM(D7:D206) -> 0 | E6: =SUM(E7:E206) -> 0
A7: 001 | G7: Desenvolvido By Gnomo Informática
A8: 002 | G8: 11 99166.5720
A9: 003
A10: 004
A11: 005
A12: 006
A13: 007
A14: 008
A15: 009
A16: 010
A17: 011
A18: 012
A19: 013
A20: 014
... A206: 200

Sheet Junho
E1: =IF(E3>0,"Saldo Positivo","Saldo Negativo") -> Saldo Negativo
B3: J U N H O | D3: Total | E3: =D6-E6 -> 0
D5: Entrada | E5: Gasto
B6: Data | C6: Descrição | D6: =SUM(D7:D206) -> 0 | E6: =SUM(E7:E206) -> 0
A7: 001 | G7: Desenvolvido By Gnomo Informática
A8: 002 | G8: 11 99166.5720
A9: 003
A10: 004
A11: 005
A12: 006
A13: 007
A14: 008
A15: 009
A16: 010
A17: 011
A18: 012
A19: 013
A20: 014
... A206: 200

Sheet Julho
E1: =IF(E3>0,"Saldo Positivo","Saldo Negativo") -> Saldo Negativo
B3: J U L H O | D3: Total | E3: =D6-E6 -> 0
D5: Entrada | E5: Gasto
B6: Data | C6: Descrição | D6: =SUM(D7:D206) -> 0 | E6: =SUM(E7:E206) -> 0
A7: 001 | G7: Desenvolvido By Gnomo Informática
A8: 002 | G8: 11 99166.5720
A9: 003
A10: 004
A11: 005
A12: 006
A13: 007
A14: 008
A15: 009
A16: 010
A17: 011
A18: 012
A19: 013
A20: 014
... A206: 200

Sheet Agosto
E1: =IF(E3>0,"Saldo Positivo","Saldo Negativo") -> Saldo Negativo
B3: A G O S T O | D3: Total | E3: =D6-E6 -> 0
D5: Entrada | E5: Gasto
B6: Data | C6: Descrição | D6: =SUM(D7:D206) -> 0 | E6: =SUM(E7:E206) -> 0
A7: 001 | G7: Desenvolvido By Gnomo Informática
A8: 002 | G8: 11 99166.5720
A9: 003
A10: 004
A11: 005
A12: 006
A13: 007
A14: 008
A15: 009
A16: 010
A17: 011
A18: 012
A19: 013
A20: 014
... A206: 200

Sheet Setembro
E1: =IF(E3>0,"Saldo Positivo","Saldo Negativo") -> Saldo Negativo
B3: S E T E M B R O | D3: Total | E3: =D6-E6 -> 0
D5: Entrada | E5: Gasto
B6: Data | C6: Descrição | D6: =SUM(D7:D206) -> 0 | E6: =SUM(E7:E206) -> 0
A7: 001 | G7: Desenvolvido By Gnomo Informática
A8: 002 | G8: 11 99166.5720
A9: 003
A10: 004
A11: 005
A12: 006
A13: 007
A14: 008
A15: 009
A16: 010
A17: 011
A18: 012
A19: 013
A20: 014
... A206: 200

Sheet Outubro
E1: =IF(E3>0,"Saldo Positivo","Saldo Negativo") -> Saldo Negativo
B3: O U T U B R O | D3: Total | E3: =D6-E6 -> 0
D5: Entrada | E5: Gasto
B6: Data | C6: Descrição | D6: =SUM(D7:D206) -> 0 | E6: =SUM(E7:E206) -> 0
A7: 001 | G7: Desenvolvido By Gnomo Informática
A8: 002 | G8: 11 99166.5720
A9: 003
A10: 004
A11: 005
A12: 006
A13: 007
A14: 008
A15: 009
A16: 010
A17: 011
A18: 012
A19: 013
A20: 014
... A206: 200

Sheet Novembro
E1: =IF(E3>0,"Saldo Positivo","Saldo Negativo") -> Saldo Negativo
B3: N O V E M B R O | D3: Total | E3: =D6-E6 -> 0
D5: Entrada | E5: Gasto
B6: Data | C6: Descrição | D6: =SUM(D7:D206) -> 0 | E6: =SUM(E7:E206) -> 0
A7: 001 | G7: Desenvolvido By Gnomo Informática
A8: 002 | G8: 11 99166.5720
A9: 003
A10: 004
A11: 005
A12: 006
A13: 007
A14: 008
A15: 009
A16: 010
A17: 011
A18: 012
A19: 013
A20: 014
... A206: 200

Sheet Dezembro
E1: =IF(E3>0,"Saldo Positivo","Saldo Negativo") -> Saldo Negativo
B3: D E Z E M B R O | D3: Total | E3: =D6-E6 -> 0
D5: Entrada | E5: Gasto
B6: Data | C6: Descrição | D6: =SUM(D7:D206) -> 0 | E6: =SUM(E7:E206) -> 0
A7: 001 | G7: Desenvolvido By Gnomo Informática
A8: 002 | G8: 11 99166.5720
A9: 003
A10: 004
A11: 005
A12: 006
A13: 007
A14: 008
A15: 009
A16: 010
A17: 011
A18: 012
A19: 013
A20: 014
... A206: 200

Sheet Impressão
B3: A G O S T O | D3: Total
D5: Entrada | E5: Gasto
B6: Data | C6: D E S C R I Ç Ã O
A7: 001 | B7: /
A8: 002 | B8: /
A9: 003 | B9: /
A10: 004 | B10: /
A11: 005 | B11: /
A12: 006 | B12: /
A13: 007 | B13: /
A14: 008 | B14: /
A15: 009 | B15: /
A16: 010 | B16: /
A17: 011 | B17: /
A18: 012 | B18: /
... A101: 095 | B101: /
